BEGIN:VCALENDAR
VERSION:2.0
PRODID:-//Rampage Athletics - ECPv6.15.20//NONSGML v1.0//EN
CALSCALE:GREGORIAN
METHOD:PUBLISH
X-WR-CALNAME:Rampage Athletics
X-ORIGINAL-URL:https://rampage-athletics.com
X-WR-CALDESC:Events for Rampage Athletics
REFRESH-INTERVAL;VALUE=DURATION:PT1H
X-Robots-Tag:noindex
X-PUBLISHED-TTL:PT1H
BEGIN:VTIMEZONE
TZID:UTC
BEGIN:STANDARD
TZOFFSETFROM:+0000
TZOFFSETTO:+0000
TZNAME:UTC
DTSTART:20250101T000000
END:STANDARD
END:VTIMEZONE
BEGIN:VEVENT
DTSTART;TZID=UTC:20260706T070000
DTEND;TZID=UTC:20260710T173000
DTSTAMP:20260421T140635
CREATED:20260325T182649Z
LAST-MODIFIED:20260325T182655Z
UID:10000057-1783321200-1783704600@rampage-athletics.com
SUMMARY:Week 1: Splash & Slide Week - 7/6-7/10
DESCRIPTION:Splash & Slide Week \nWeek 1: July 6 – July 10 \nKick off summer the BEST way possible – with water\, energy\, and nonstop fun! Splash & Slide Week is one of our most popular weeks of the summer and is designed for kids who love to stay active\, get outside\, and cool off while having a blast. \nThroughout the week\, campers will enjoy a variety of water-based activities including our inflatable slide with splash pool\, water balloon battles\, and interactive outdoor games that keep them moving and engaged all day long. Every day brings something new\, exciting\, and just a little messy (in the best way). \nBut it’s not just about water – campers will also participate in structured games\, group challenges\, and team-building activities that help build confidence\, friendships\, and memories that last all summer. \nCamp Details\nTime: 7:00 AM – 5:30 PM\nLocation: Rampage Athletics\nAges: 5 & Up\nCost: $199 per week\nDaily Option: Daily spots will only be available if the week does not sell out\nWhat to Bring: Packed lunch\, water bottle\, and clothes that can get wet \nThis week is the perfect mix of: \nHigh-energy play\nOutdoor fun\nSocial interaction and teamwork\nSafe\, structured environment \nWhether your child is coming with friends or making new ones\, Splash & Slide Week sets the tone for an unforgettable summer. \n⚡ Spots are limited and this week WILL sell out – secure your spot early! \n  \n 
URL:https://rampage-athletics.com/event/week-1-splash-slide-week-7-6-7-10/
CATEGORIES:Summer Camps
ATTACH;FMTTYPE=image/png:https://rampage-athletics.com/wp-content/uploads/2026/03/ChatGPT-Image-Mar-25-2026-01_23_23-PM.png
END:VEVENT
BEGIN:VEVENT
DTSTART;TZID=UTC:20260706T070000
DTEND;TZID=UTC:20260821T173000
DTSTAMP:20260421T140635
CREATED:20260325T181219Z
LAST-MODIFIED:20260325T181225Z
UID:10000056-1783321200-1787333400@rampage-athletics.com
SUMMARY:2026 Full Summer Camp Program
DESCRIPTION:☀️ Summer Camps at Rampage Athletics \nLooking for a fun\, active way to keep your athlete moving this summer?\nWe’ve got it covered. \nOur full-day summer camps are designed to keep kids engaged\, active\, and excited to come back each day. With a different theme every week\, no two weeks are the same – giving athletes a fresh experience all summer long. \n💥 What to Expect\nFull-day camps (7:00 AM – 5:30 PM)\n7 themed weeks of camp\nGames\, obstacle courses\, and team challenges\nStructured rotations to keep kids engaged\nHigh-energy\, fun\, and positive environment\n🎯 Designed for Ages 5+ \nOur camps are built specifically for younger athletes\, with activities that balance movement\, creativity\, and fun throughout the day. \n🔁 Flexible Options \nJoin us for: \nA single day\nA full week\nMultiple weeks\nOr the entire summer \nEach week is completely different – many athletes join for multiple weeks! \n🎉 2026 Summer Camp Themes\n🌊 Week 1: Splash & Slide Week \nGet soaked with water games\, inflatable water slide fun\, and splash challenges all week long. \n🚓 Week 2: Heroes in Training Week \nTrain like a real-life hero with obstacle courses\, team challenges\, and special activities inspired by police and fire. \n🤸 Week 3: Flip & Trick Camp \nA full week of tumbling\, movement\, and active fun with games and challenges built for kids who love to move. \n🥷 Week 4: Ninja Warrior Week \nClimb\, jump\, and race through obstacle courses to become the ultimate Rampage Ninja. \n🍕 Week 5: Foodie Fun Week \nCreate\, build\, and decorate fun snacks and treats while mixing in games and themed activities all week long. \n🏰 Week 6: Magic Kingdom Adventure \nStep into a world of imagination with princesses\, heroes\, and magical adventures through games and challenges. \n🕵️ Week 7: Spy Kids / Secret Agent Week \nTop secret missions await! Solve clues\, complete challenges\, and train to become an official Rampage agent. \n💙 Why Families Love Rampage Camps\nDifferent theme every week (no repeat boredom)\nActive days that keep kids moving\nDesigned specifically for ages 5+\nStructured but FUN environment\nFlexible scheduling options\n❓ FAQ \nWhat ages is camp for?\nAges 5 and up \nWhat are the hours?\n7:00 AM – 5:30 PM\, Monday through Friday \nDo athletes bring lunch?\nYes\, campers should bring their own lunch each day \nCan I pick specific days or weeks?\nYes! We offer daily\, weekly\, and full-summer options \n🚨 Limited Spots Each Week \nTo maintain a safe and structured environment\, spots are limited and expected to fill quickly. \n  \n 
URL:https://rampage-athletics.com/event/2026-full-summer-camp-program/
CATEGORIES:Summer Camps
ATTACH;FMTTYPE=image/png:https://rampage-athletics.com/wp-content/uploads/2026/03/ChatGPT-Image-Mar-25-2026-01_11_54-PM.png
END:VEVENT
BEGIN:VEVENT
DTSTART;TZID=UTC:20260713T070000
DTEND;TZID=UTC:20260717T173000
DTSTAMP:20260421T140635
CREATED:20260325T190427Z
LAST-MODIFIED:20260325T190433Z
UID:10000059-1783926000-1784309400@rampage-athletics.com
SUMMARY:Week 2: Heroes in Training - 7/13-7/17
DESCRIPTION:Heroes in Training Week \nWeek 2: July 13 – July 17 \nGet ready for a week of hands-on fun inspired by real-life heroes! Heroes in Training Week is all about learning\, playing\, and exploring activities centered around police officers\, firefighters\, and the important jobs they do in our communities. \nThroughout the week\, campers will enjoy themed games\, obstacle courses\, group challenges\, and special activities designed to make them feel like heroes in training. We also hope to have visits from local police and fire departments to help make this week even more exciting and memorable. \nThis camp week is a fun mix of movement\, teamwork\, imagination\, and hands-on learning – giving kids the chance to stay active while experiencing something unique. \nCamp Details\nTime: 7:00 AM – 5:30 PM\nLocation: Rampage Athletics\nAges: 5 & Up\nCost: $199 per week\nDaily Option: Daily spots will only be available if the week does not sell out\nWhat to Bring: Packed lunch and water bottle \nThis week is perfect for campers who love: \nAction-packed activities\nTeam challenges\nLearning about real-life heroes\nFun\, structured days with something new each day \nWhether your child loves police cars\, fire trucks\, or just the chance to jump into a high-energy themed week\, Heroes in Training Week is sure to be a favorite. \n⚡ Spots are limited\, and this week is expected to fill quickly – secure your spot early! \n  \n 
URL:https://rampage-athletics.com/event/week-2-heroes-in-training-7-13-7-17/
CATEGORIES:Summer Camps
ATTACH;FMTTYPE=image/png:https://rampage-athletics.com/wp-content/uploads/2026/03/ChatGPT-Image-Mar-25-2026-01_55_12-PM.png
END:VEVENT
BEGIN:VEVENT
DTSTART;TZID=UTC:20260720T070000
DTEND;TZID=UTC:20260724T173000
DTSTAMP:20260421T140635
CREATED:20260325T190238Z
LAST-MODIFIED:20260325T190244Z
UID:10000058-1784530800-1784914200@rampage-athletics.com
SUMMARY:Week 3: Flips & Tricks Week - 7/20-7/24
DESCRIPTION:Flips & Tricks Week \nWeek 3: July 20 – July 24 \nGet ready to jump\, flip\, and move all week long! Flips & Tricks Week is perfect for high-energy campers who love to stay active and try new skills. This week is all about movement\, coordination\, and FUN in a safe\, structured environment. \nCampers will spend the week working on beginner-friendly tumbling\, obstacle courses\, balance challenges\, and skill-based games designed to build confidence and keep them moving. Whether your child is brand new or already loves to tumble\, this week is designed for all levels to enjoy. \nEvery day will bring something new\, keeping campers engaged\, challenged\, and excited to come back. \nCamp Details\nTime: 7:00 AM – 5:30 PM\nLocation: Rampage Athletics\nAges: 5 & Up\nCost: $199 per week\nDaily Option: Daily spots will only be available if the week does not sell out\nWhat to Bring: Packed lunch and water bottle\nWhat to Expect\nTumbling basics and skill-building activities\nObstacle courses and movement challenges\nGames that build strength\, coordination\, and confidence\nA full day of structured\, active fun \nThis week is perfect for campers who: \nLove to move and stay active\nWant to try tumbling or improve their skills\nEnjoy high-energy games and challenges\nThrive in a fun\, encouraging environment \n⚡ Spots are limited and will fill fast – secure your spot early! \n  \n 
URL:https://rampage-athletics.com/event/week-3-flips-tricks-week-7-20-7-24/
CATEGORIES:Summer Camps
ATTACH;FMTTYPE=image/png:https://rampage-athletics.com/wp-content/uploads/2026/03/ChatGPT-Image-Mar-25-2026-01_58_45-PM.png
END:VEVENT
BEGIN:VEVENT
DTSTART;TZID=UTC:20260727T070000
DTEND;TZID=UTC:20260731T173000
DTSTAMP:20260421T140635
CREATED:20260325T191029Z
LAST-MODIFIED:20260325T191035Z
UID:10000060-1785135600-1785519000@rampage-athletics.com
SUMMARY:Week 4: Ninja Warrior Week - 7/27-7/30
DESCRIPTION:Ninja Warrior Week \nWeek 4: July 27 – July 31 \nGet ready to climb\, jump\, balance\, and conquer! Ninja Warrior Week is all about action-packed challenges designed to test agility\, strength\, and determination in a fun and supportive environment. \nCampers will take on exciting obstacle courses\, timed challenges\, and skill-based activities inspired by ninja-style training. From balance work to climbing and speed drills\, this week is perfect for kids who love to move\, compete\, and push themselves in a positive way. \nEvery day brings new challenges\, keeping campers engaged\, motivated\, and having a blast. \nCamp Details\nTime: 7:00 AM – 5:30 PM\nLocation: Rampage Athletics\nAges: 5 & Up\nCost: $199 per week\nDaily Option: Daily spots will only be available if the week does not sell out\nWhat to Bring: Packed lunch and water bottle\nWhat to Expect\nNinja-style obstacle courses\nBalance\, agility\, and strength challenges\nTimed runs and friendly competitions\nTeam-based games and individual challenges\nA full day of high-energy fun \nThis week is perfect for campers who: \nLove obstacle courses and challenges\nEnjoy climbing\, jumping\, and staying active\nLike friendly competition\nWant to build confidence and strength \n⚡ Spots are limited and this is always a favorite – don’t wait to sign up! \n  \n 
URL:https://rampage-athletics.com/event/week-4-ninja-warrior-week-7-27-7-30/
CATEGORIES:Summer Camps
ATTACH;FMTTYPE=image/png:https://rampage-athletics.com/wp-content/uploads/2026/03/ChatGPT-Image-Mar-25-2026-02_10_09-PM.png
END:VEVENT
END:VCALENDAR