BEGIN:VCALENDAR
VERSION:2.0
PRODID:-//Rampage Athletics - ECPv6.15.20//NONSGML v1.0//EN
CALSCALE:GREGORIAN
METHOD:PUBLISH
X-ORIGINAL-URL:https://rampage-athletics.com
X-WR-CALDESC:Events for Rampage Athletics
REFRESH-INTERVAL;VALUE=DURATION:PT1H
X-Robots-Tag:noindex
X-PUBLISHED-TTL:PT1H
BEGIN:VTIMEZONE
TZID:UTC
BEGIN:STANDARD
TZOFFSETFROM:+0000
TZOFFSETTO:+0000
TZNAME:UTC
DTSTART:20250101T000000
END:STANDARD
END:VTIMEZONE
BEGIN:VEVENT
DTSTART;TZID=UTC:20260314T090000
DTEND;TZID=UTC:20260314T110000
DTSTAMP:20260421T211526
CREATED:20260226T183540Z
LAST-MODIFIED:20260306T162557Z
UID:10000046-1773478800-1773486000@rampage-athletics.com
SUMMARY:Tie Dye Dance Clinic
DESCRIPTION:Our Mayhem Clinics are fun\, themed\, one-day events open to athletes of all skill levels. Each clinic includes a focused session where athletes learn the basics of stunts\, jumps\, and routines. These clinics provide a low-commitment way to experience cheer\, dance\, sharpen specific skills\, and build confidence. \nMember Price $24 | Non-Member Price: $29 \n  \n 
URL:https://rampage-athletics.com/event/tie-dye-dance-clinic/
CATEGORIES:Upcoming Events
ATTACH;FMTTYPE=image/png:https://rampage-athletics.com/wp-content/uploads/2026/02/Tie-Dye-Clinic-Facebook-Post-1920-x-1080-px-1.png
END:VEVENT
BEGIN:VEVENT
DTSTART;TZID=UTC:20260316T180000
DTEND;TZID=UTC:20260316T193000
DTSTAMP:20260421T211526
CREATED:20260226T184408Z
LAST-MODIFIED:20260302T171506Z
UID:10000047-1773684000-1773689400@rampage-athletics.com
SUMMARY:Back Handspring & Walkover Clinic
DESCRIPTION:Spring Break Tumbling Clinics \nNo school – more time to level up.\nJoin us at Rampage Athletics for a week of focused skill training designed to build confidence and clean up technique. Perfect for athletes working fundamentals or pushing to the next level. \nSpots are limited – make Spring Break count. 💙 \nMember Price $25 | Non-Member Price: $30 \n  \n 
URL:https://rampage-athletics.com/event/back-handspring-walkover-clinic/
CATEGORIES:Upcoming Events
ATTACH;FMTTYPE=image/png:https://rampage-athletics.com/wp-content/uploads/2026/02/ChatGPT-Image-Feb-12-2026-08_19_53-PM.png
END:VEVENT
BEGIN:VEVENT
DTSTART;TZID=UTC:20260317T180000
DTEND;TZID=UTC:20260317T193000
DTSTAMP:20260421T211526
CREATED:20260226T184847Z
LAST-MODIFIED:20260302T171649Z
UID:10000048-1773770400-1773775800@rampage-athletics.com
SUMMARY:Backbend/Handstand & Back Handspring Clinic
DESCRIPTION:Spring Break Tumbling Clinics \nNo school – more time to level up.\nJoin us at Rampage Athletics for a week of focused skill training designed to build confidence and clean up technique. Perfect for athletes working fundamentals or pushing to the next level. \nSpots are limited – make Spring Break count. 💙 \nMember Price $24 | Non-Member Price: $29 \n  \n 
URL:https://rampage-athletics.com/event/backbend-handstand-back-handspring-clinic/
CATEGORIES:Upcoming Events
ATTACH;FMTTYPE=image/png:https://rampage-athletics.com/wp-content/uploads/2026/02/ChatGPT-Image-Feb-12-2026-08_19_53-PM1.png
END:VEVENT
BEGIN:VEVENT
DTSTART;TZID=UTC:20260318T180000
DTEND;TZID=UTC:20260318T193000
DTSTAMP:20260421T211526
CREATED:20260226T185043Z
LAST-MODIFIED:20260302T171820Z
UID:10000049-1773856800-1773862200@rampage-athletics.com
SUMMARY:Jumps & Backbend/Handstand Clinic
DESCRIPTION:Spring Break Tumbling Clinics \nNo school – more time to level up.\nJoin us at Rampage Athletics for a week of focused skill training designed to build confidence and clean up technique. Perfect for athletes working fundamentals or pushing to the next level. \nSpots are limited – make Spring Break count. 💙 \nMember Price $25 | Non-Member Price: $30 \n  \n 
URL:https://rampage-athletics.com/event/jumps-backbend-handstand-clinic/
CATEGORIES:Upcoming Events
ATTACH;FMTTYPE=image/png:https://rampage-athletics.com/wp-content/uploads/2026/02/ChatGPT-Image-Feb-12-2026-08_19_53-PM2.png
END:VEVENT
BEGIN:VEVENT
DTSTART;TZID=UTC:20260319T180000
DTEND;TZID=UTC:20260319T193000
DTSTAMP:20260421T211526
CREATED:20260302T172315Z
LAST-MODIFIED:20260302T172318Z
UID:10000050-1773943200-1773948600@rampage-athletics.com
SUMMARY:Walkover & Back Handspring Clinic
DESCRIPTION:Spring Break Tumbling Clinics \nNo school – more time to level up.\nJoin us at Rampage Athletics for a week of focused skill training designed to build confidence and clean up technique. Perfect for athletes working fundamentals or pushing to the next level. \nSpots are limited – make Spring Break count. 💙 \nNon-Member $30 | Member Price $25 \n  \n 
URL:https://rampage-athletics.com/event/walkover-back-handspring-clinic/
CATEGORIES:Upcoming Events
ATTACH;FMTTYPE=image/png:https://rampage-athletics.com/wp-content/uploads/2026/03/ChatGPT-Image-Feb-12-2026-08_19_53-PM.png
END:VEVENT
BEGIN:VEVENT
DTSTART;TZID=UTC:20260320T180000
DTEND;TZID=UTC:20260320T193000
DTSTAMP:20260421T211526
CREATED:20260302T172504Z
LAST-MODIFIED:20260302T173022Z
UID:10000051-1774029600-1774035000@rampage-athletics.com
SUMMARY:Stunt Clinic
DESCRIPTION:Spring Break Tumbling Clinics \nNo school – more time to level up.\nJoin us at Rampage Athletics for a week of focused skill training designed to build confidence and clean up technique. Perfect for athletes working fundamentals or pushing to the next level. \nSpots are limited – make Spring Break count. 💙 \nNon-Member $30 | Member Price $25 \n  \n 
URL:https://rampage-athletics.com/event/stunt-clinic/
CATEGORIES:Upcoming Events
ATTACH;FMTTYPE=image/png:https://rampage-athletics.com/wp-content/uploads/2026/03/ChatGPT-Image-Feb-12-2026-08_19_53-PM1.png
END:VEVENT
BEGIN:VEVENT
DTSTART;TZID=UTC:20260321T090000
DTEND;TZID=UTC:20260321T110000
DTSTAMP:20260421T211526
CREATED:20260302T174310Z
LAST-MODIFIED:20260317T221853Z
UID:10000053-1774083600-1774090800@rampage-athletics.com
SUMMARY:Candyland Mayhem Cheer Clinic
DESCRIPTION:Our Mayhem Clinics are fun\, themed\, one-day events open to athletes of all skill levels. Each clinic includes a focused cheerleading session where athletes learn stunts\, jumps\, and routines. These clinics provide a low-commitment way to experience cheer\, sharpen specific skills\, and build confidence. \nNon-Member $29 | Member Price $24 \n  \n 
URL:https://rampage-athletics.com/event/mayhem-cheer-clinic/
CATEGORIES:Upcoming Events
ATTACH;FMTTYPE=image/png:https://rampage-athletics.com/wp-content/uploads/2026/03/Untitled-design.png
END:VEVENT
BEGIN:VEVENT
DTSTART;TZID=UTC:20260321T180000
DTEND;TZID=UTC:20260321T193000
DTSTAMP:20260421T211526
CREATED:20260302T173510Z
LAST-MODIFIED:20260302T173513Z
UID:10000052-1774116000-1774121400@rampage-athletics.com
SUMMARY:Back Handspring and Backbend/Handstand Clinic
DESCRIPTION:Spring Break Tumbling Clinics \nNo school – more time to level up.\nJoin us at Rampage Athletics for a week of focused skill training designed to build confidence and clean up technique. Perfect for athletes working fundamentals or pushing to the next level. \nSpots are limited – make Spring Break count. 💙 \nNon-Member $30 | Member Price $25 \n  \n 
URL:https://rampage-athletics.com/event/back-handspring-and-backbend-handstand-clinic/
CATEGORIES:Upcoming Events
ATTACH;FMTTYPE=image/png:https://rampage-athletics.com/wp-content/uploads/2026/03/ChatGPT-Image-Feb-12-2026-08_19_53-PM2.png
END:VEVENT
END:VCALENDAR