BEGIN:VCALENDAR
VERSION:2.0
PRODID:-//Rampage Athletics - ECPv6.15.20//NONSGML v1.0//EN
CALSCALE:GREGORIAN
METHOD:PUBLISH
X-WR-CALNAME:Rampage Athletics
X-ORIGINAL-URL:https://rampage-athletics.com
X-WR-CALDESC:Events for Rampage Athletics
REFRESH-INTERVAL;VALUE=DURATION:PT1H
X-Robots-Tag:noindex
X-PUBLISHED-TTL:PT1H
BEGIN:VTIMEZONE
TZID:UTC
BEGIN:STANDARD
TZOFFSETFROM:+0000
TZOFFSETTO:+0000
TZNAME:UTC
DTSTART:20250101T000000
END:STANDARD
END:VTIMEZONE
BEGIN:VEVENT
DTSTART;TZID=UTC:20260411T090000
DTEND;TZID=UTC:20260411T110000
DTSTAMP:20260421T211926
CREATED:20260325T192019Z
LAST-MODIFIED:20260325T192024Z
UID:10000061-1775898000-1775905200@rampage-athletics.com
SUMMARY:K-Pop Cheer Clinic
DESCRIPTION:K-Pop Cheer Clinic \nSaturday\, April 11\, 2026\n9:00 AM – 11:00 AM \nGet ready for a high-energy morning of cheer\, music\, and fun at our K-Pop Cheer Mayhem Clinic. Athletes will learn a fun K-pop inspired cheer routine\, enjoy themed activities\, and experience the excitement of Rampage Athletics in a fast-paced\, upbeat clinic atmosphere. \nWhether your athlete already loves cheer\, loves to dance\, or just wants to try something new\, this clinic is a great way to build confidence\, have fun\, and make new friends. \nWhat to Expect\nK-pop themed cheer routine\nFun themed activity or craft\nHigh-energy games and movement\nA morning full of music\, spirit\, and fun\nWho Can Join \nThis clinic is great for athletes who want to have fun\, try cheer\, and enjoy a K-pop themed experience in an exciting and welcoming environment. \nWhat to Wear \nAthletes should wear comfortable athletic clothes and tennis shoes and bring a water bottle. \nReserve Your Spot \nSpots are limited\, so early registration is encouraged. \nJoin us for a morning of cheer\, fun\, and K-pop energy at Rampage Athletics. \n  \n 
URL:https://rampage-athletics.com/event/k-pop-cheer-clinic/
CATEGORIES:Upcoming Events
ATTACH;FMTTYPE=image/png:https://rampage-athletics.com/wp-content/uploads/2026/03/K-POP-MAYHEM-CLINIC-Presentation.png
END:VEVENT
BEGIN:VEVENT
DTSTART;TZID=UTC:20260411T093000
DTEND;TZID=UTC:20260411T110000
DTSTAMP:20260421T211926
CREATED:20260325T195940Z
LAST-MODIFIED:20260325T195946Z
UID:10000065-1775899800-1775905200@rampage-athletics.com
SUMMARY:Walkover Skills Clinic
DESCRIPTION:Walkover Skills Clinic \nBuild strong foundations with front and back walkovers in a focused\, high-energy clinic. \nDate & Time:\nSaturday\, April 11\, 2026\n9:30 AM – 11:00 AM \nWho It’s For:\nAthletes working toward: \nFront Walkovers\nBack Walkovers\nStrong bridges & flexibility \nPerfect for beginners and athletes in Level 1. \nWhat Athletes Will Work On: \nProper bridge position\nKickover technique\nFlexibility & shoulder mobility\nStrength and control\nSafe progressions for walkovers \nCost:\n$25 – Members\n$30 – Non-Members \nWhat to Bring: \nAthletic clothes (Rampage colors preferred)\nTennis shoes or cheer shoes\nWater bottle \nSpots Are Limited:\nThis clinic will fill quickly – reserve your athlete’s spot early. \n  \n 
URL:https://rampage-athletics.com/event/walkover-skills-clinic/
CATEGORIES:Upcoming Events
ATTACH;FMTTYPE=image/png:https://rampage-athletics.com/wp-content/uploads/2026/03/ChatGPT-Image-Mar-25-2026-02_56_39-PM.png
END:VEVENT
END:VCALENDAR