BEGIN:VCALENDAR
VERSION:2.0
PRODID:-//Rampage Athletics - ECPv6.15.20//NONSGML v1.0//EN
CALSCALE:GREGORIAN
METHOD:PUBLISH
X-WR-CALNAME:Rampage Athletics
X-ORIGINAL-URL:https://rampage-athletics.com
X-WR-CALDESC:Events for Rampage Athletics
REFRESH-INTERVAL;VALUE=DURATION:PT1H
X-Robots-Tag:noindex
X-PUBLISHED-TTL:PT1H
BEGIN:VTIMEZONE
TZID:UTC
BEGIN:STANDARD
TZOFFSETFROM:+0000
TZOFFSETTO:+0000
TZNAME:UTC
DTSTART:20250101T000000
END:STANDARD
END:VTIMEZONE
BEGIN:VEVENT
DTSTART;TZID=UTC:20260417T193000
DTEND;TZID=UTC:20260417T210000
DTSTAMP:20260421T211908
CREATED:20260413T153504Z
LAST-MODIFIED:20260413T153509Z
UID:10000069-1776454200-1776459600@rampage-athletics.com
SUMMARY:Friday Open Gym
DESCRIPTION:Need extra reps before tryouts or just want time to work your skills? \nThis is your chance. \nOpen Gym is designed for athletes who want to get on the floor\, clean up skills\, and build confidence in a low-pressure environment. \n🔥 Get extra reps on tumbling\, jumps\, and stunts\n👀 Be seen by coaches and get real-time feedback\n💪 Walk into tryouts feeling more confident and prepared \nWhether you're close to a new skill or just want more time on the mat\, this is where progress happens. \nPricing:\n$10 Members\n$15 Non-Members \nSpots are limited – don’t wait until it fills. \n  \n 
URL:https://rampage-athletics.com/event/friday-open-gym/
CATEGORIES:Upcoming Events
ATTACH;FMTTYPE=image/png:https://rampage-athletics.com/wp-content/uploads/2026/04/Open-Gym-April-17-1080x1080-1920-x-1080-px.png
END:VEVENT
END:VCALENDAR