BEGIN:VCALENDAR
VERSION:2.0
PRODID:-//Rampage Athletics - ECPv6.15.20//NONSGML v1.0//EN
CALSCALE:GREGORIAN
METHOD:PUBLISH
X-ORIGINAL-URL:https://rampage-athletics.com
X-WR-CALDESC:Events for Rampage Athletics
REFRESH-INTERVAL;VALUE=DURATION:PT1H
X-Robots-Tag:noindex
X-PUBLISHED-TTL:PT1H
BEGIN:VTIMEZONE
TZID:UTC
BEGIN:STANDARD
TZOFFSETFROM:+0000
TZOFFSETTO:+0000
TZNAME:UTC
DTSTART:20250101T000000
END:STANDARD
END:VTIMEZONE
BEGIN:VEVENT
DTSTART;TZID=UTC:20260419T120000
DTEND;TZID=UTC:20260419T140000
DTSTAMP:20260422T001635
CREATED:20260325T211218Z
LAST-MODIFIED:20260325T211225Z
UID:10000066-1776600000-1776607200@rampage-athletics.com
SUMMARY:Rampage Athletics Spring Showcase
DESCRIPTION:Spring Showcase 2026 \nJoin us for the Rampage Athletics Spring Showcase on Sunday\, April 19th at 12:00 PM at Lee’s Summit West High School. \nThis exciting event is a celebration of all the hard work\, growth\, and dedication our athletes have put in throughout the season. All competitive teams will perform\, and our tumbling athletes will also take the floor to showcase their skills. From team routines to individual progress\, the Spring Showcase is a great opportunity for family and friends to come cheer on our athletes and celebrate an amazing season. \nEvent Details \nDate: Sunday\, April 19th\nTime: 12:00 PM\nLocation: Lee’s Summit West High School \nTicket Information\n$12 online through April 15th\n$15 day of the event\nChildren under 5 require a ticket\, but it is free\nAthletes participating in the showcase do not need a ticket\nShowcase Shirts \nShow your Rampage pride with our official Spring Showcase t-shirt! \nUnisex fit\nEvent logo on the front\nAthlete names on the back \nPricing: \n$20 (Youth – Adult XL)\n2XL and up are additional \nAll shirt orders are due by April 5\, 2026. \nDon’t Miss It \nThis is one of our favorite events of the year and a chance to celebrate everything our athletes have accomplished this season. \nGrab your tickets early and secure your spot! \n  \n 
URL:https://rampage-athletics.com/event/rampage-athletics-spring-showcase/
CATEGORIES:Upcoming Events
ATTACH;FMTTYPE=image/png:https://rampage-athletics.com/wp-content/uploads/2026/03/ChatGPT-Image-Mar-25-2026-03_58_10-PM.png
END:VEVENT
END:VCALENDAR