BEGIN:VCALENDAR
VERSION:2.0
PRODID:-//Rampage Athletics - ECPv6.15.20//NONSGML v1.0//EN
CALSCALE:GREGORIAN
METHOD:PUBLISH
X-ORIGINAL-URL:https://rampage-athletics.com
X-WR-CALDESC:Events for Rampage Athletics
REFRESH-INTERVAL;VALUE=DURATION:PT1H
X-Robots-Tag:noindex
X-PUBLISHED-TTL:PT1H
BEGIN:VTIMEZONE
TZID:UTC
BEGIN:STANDARD
TZOFFSETFROM:+0000
TZOFFSETTO:+0000
TZNAME:UTC
DTSTART:20250101T000000
END:STANDARD
END:VTIMEZONE
BEGIN:VEVENT
DTSTART;TZID=UTC:20260508T193000
DTEND;TZID=UTC:20260508T210000
DTSTAMP:20260422T001717
CREATED:20260409T175824Z
LAST-MODIFIED:20260409T175832Z
UID:10000068-1778268600-1778274000@rampage-athletics.com
SUMMARY:Open Gym
DESCRIPTION:Looking to feel fully ready going into tryouts? This is your chance. \nJoin us for Open Gym on May 8th from 7:30 – 9:00 PM and take advantage of focused\, low-pressure time to work on exactly what you need. \n🔥 Get Extra Reps Before Tryouts\nUse this time to clean skills\, build consistency\, and gain confidence before it counts. \n👀 Be Seen by Coaches in a Low-Pressure Setting\nStand out naturally while asking questions\, getting feedback\, and showing your work ethic. \n💪 Walk Into Tryouts Confident & Ready\nShake off the nerves\, sharpen your technique\, and show up feeling prepared. \nWhether you’re close to new skills or just want to feel solid across the board\, this is where you put it together. \n$10 Members | $15 Non-Members \n  \n 
URL:https://rampage-athletics.com/event/open-gym/
CATEGORIES:Upcoming Events
ATTACH;FMTTYPE=image/png:https://rampage-athletics.com/wp-content/uploads/2026/04/Open-Gym-May-8-1920-x-1080.png
END:VEVENT
END:VCALENDAR